BEGIN:VCALENDAR
VERSION:2.0
PRODID:-//CZ Airsoft - ECPv6.15.20//NONSGML v1.0//EN
CALSCALE:GREGORIAN
METHOD:PUBLISH
X-WR-CALNAME:CZ Airsoft
X-ORIGINAL-URL:https://czairsoft.com
X-WR-CALDESC:Events for CZ Airsoft
REFRESH-INTERVAL;VALUE=DURATION:PT1H
X-Robots-Tag:noindex
X-PUBLISHED-TTL:PT1H
BEGIN:VTIMEZONE
TZID:America/New_York
BEGIN:DAYLIGHT
TZOFFSETFROM:-0500
TZOFFSETTO:-0400
TZNAME:EDT
DTSTART:20230312T070000
END:DAYLIGHT
BEGIN:STANDARD
TZOFFSETFROM:-0400
TZOFFSETTO:-0500
TZNAME:EST
DTSTART:20231105T060000
END:STANDARD
BEGIN:DAYLIGHT
TZOFFSETFROM:-0500
TZOFFSETTO:-0400
TZNAME:EDT
DTSTART:20240310T070000
END:DAYLIGHT
BEGIN:STANDARD
TZOFFSETFROM:-0400
TZOFFSETTO:-0500
TZNAME:EST
DTSTART:20241103T060000
END:STANDARD
BEGIN:DAYLIGHT
TZOFFSETFROM:-0500
TZOFFSETTO:-0400
TZNAME:EDT
DTSTART:20250309T070000
END:DAYLIGHT
BEGIN:STANDARD
TZOFFSETFROM:-0400
TZOFFSETTO:-0500
TZNAME:EST
DTSTART:20251102T060000
END:STANDARD
BEGIN:DAYLIGHT
TZOFFSETFROM:-0500
TZOFFSETTO:-0400
TZNAME:EDT
DTSTART:20260308T070000
END:DAYLIGHT
BEGIN:STANDARD
TZOFFSETFROM:-0400
TZOFFSETTO:-0500
TZNAME:EST
DTSTART:20261101T060000
END:STANDARD
END:VTIMEZONE
BEGIN:VEVENT
DTSTART;TZID=America/New_York:20250531T093000
DTEND;TZID=America/New_York:20250531T160000
DTSTAMP:20260419T080348
CREATED:20250317T204522Z
LAST-MODIFIED:20250331T152607Z
UID:2568-1748683800-1748707200@czairsoft.com
SUMMARY:Memorial Day Game
DESCRIPTION:
URL:https://czairsoft.com/event/memorial-day-game-3/
ATTACH;FMTTYPE=image/jpeg:https://czairsoft.com/wp-content/uploads/2021/11/Vetday-21.jpg
END:VEVENT
BEGIN:VEVENT
DTSTART;TZID=America/New_York:20250518T080000
DTEND;TZID=America/New_York:20250518T170000
DTSTAMP:20260419T080348
CREATED:20250423T152620Z
LAST-MODIFIED:20250423T175007Z
UID:2610-1747555200-1747587600@czairsoft.com
SUMMARY:Closed for Graduation
DESCRIPTION:CZ will be closed this weekend as we attend and celebrate our daughter’s graduation from Hollins University and the youngest from Ni River Middle. Very proud of both of you! We will return to slinging on May 31st for our Memorial Day Game.
URL:https://czairsoft.com/event/closed-for-graduation/
ATTACH;FMTTYPE=image/png:https://czairsoft.com/wp-content/uploads/2025/03/Hollins_University.png
END:VEVENT
BEGIN:VEVENT
DTSTART;TZID=America/New_York:20250517T080000
DTEND;TZID=America/New_York:20250517T170000
DTSTAMP:20260419T080348
CREATED:20250423T153133Z
LAST-MODIFIED:20250423T175032Z
UID:2612-1747468800-1747501200@czairsoft.com
SUMMARY:Closed for Graduation
DESCRIPTION:CZ will be closed this weekend as we attend and celebrate our daughter’s graduation from Hollins University and the youngest from Ni River Middle. Very proud of both of you! We will return to slinging on May 31st for our Memorial Day Game. \n\n\n\nMemorial Day Game May 31st & Jun 1st
URL:https://czairsoft.com/event/closed-for-graduation-2/
ATTACH;FMTTYPE=image/png:https://czairsoft.com/wp-content/uploads/2025/03/Hollins_University.png
END:VEVENT
BEGIN:VEVENT
DTSTART;TZID=America/New_York:20250511T120000
DTEND;TZID=America/New_York:20250511T163000
DTSTAMP:20260419T080348
CREATED:20250324T222916Z
LAST-MODIFIED:20250331T154402Z
UID:2581-1746964800-1746981000@czairsoft.com
SUMMARY:It's Mother's Day For Crying Out Loud..
DESCRIPTION:CZ is CLOSED today for Mother’s Day  \n\n\n\nGo and celebrate today!  Do something for your mom\, your wife\, your partner or anyone that is a mom out there. Get them all together and give them all a big hug.
URL:https://czairsoft.com/event/battle-of-spotsyltucky-vi-day2/
ATTACH;FMTTYPE=image/jpeg:https://czairsoft.com/wp-content/uploads/2025/03/MothersDay.jpg
END:VEVENT
BEGIN:VEVENT
DTSTART;TZID=America/New_York:20250510T093000
DTEND;TZID=America/New_York:20250510T163000
DTSTAMP:20260419T080348
CREATED:20250324T222742Z
LAST-MODIFIED:20250403T163256Z
UID:2579-1746869400-1746894600@czairsoft.com
SUMMARY:Battle of Spotsyltucky V
DESCRIPTION:Our fifth installment of the epic territory battle Who will you support and take up arms with (Fredburgistan\, Staffordia or Madorisan) to claim the rights and disposition of Spotsyltucky. A battle that continues to burn for supremacy as three armies meet and slug it out. The tides are shifting and a move has been made to finally decide the fate of Spotsyltucky. \n\n\n\nYou have been summoned to assist and battle your opposing forces in what will be an epic battle of proportions against an undetermined hostile force. Gear up and prepare for war! \n\n\n\nEarly Bird Tickets on sale now until 4/30 for $40. May 1st tickets go to $50 so get yours now! \n\n\n\nUNITS / UNIFORMS \n\n\n\n\nSPOTSYLTUCKY (Tan Uniforms) \n\n\n\nFREDERICKSBURG (Civilian clothes. No uniforms)) \n\n\n\nSTAFFORD (Green Uniforms) \n\n\n\n\nThose not in a particular uniform will be randomly selected to an army to even numbers.
URL:https://czairsoft.com/event/battle-of-spotsyltucky-vi/
ATTACH;FMTTYPE=image/jpeg:https://czairsoft.com/wp-content/uploads/2025/03/Spotsyltucky6_1-1.jpg
END:VEVENT
BEGIN:VEVENT
DTSTART;TZID=America/New_York:20250504T100000
DTEND;TZID=America/New_York:20250504T170000
DTSTAMP:20260419T080348
CREATED:20250317T203505Z
LAST-MODIFIED:20250317T203711Z
UID:2565-1746352800-1746378000@czairsoft.com
SUMMARY:Build / Work Day
DESCRIPTION:Getting the field ready for the Battle of Spotsyltucky. Come on out and lend a hand
URL:https://czairsoft.com/event/build-work-day-2/
ATTACH;FMTTYPE=image/jpeg:https://czairsoft.com/wp-content/uploads/2024/08/Build-Day.jpg
END:VEVENT
BEGIN:VEVENT
DTSTART;TZID=America/New_York:20250427T120000
DTEND;TZID=America/New_York:20250427T163000
DTSTAMP:20260419T080348
CREATED:20250415T183937Z
LAST-MODIFIED:20250415T184046Z
UID:2602-1745755200-1745771400@czairsoft.com
SUMMARY:Spring Sling   ..Day2
DESCRIPTION:
URL:https://czairsoft.com/event/spring-sling-day2-2/
ATTACH;FMTTYPE=image/jpeg:https://czairsoft.com/wp-content/uploads/2025/03/SprongFling_25.jpg
END:VEVENT
BEGIN:VEVENT
DTSTART;TZID=America/New_York:20250426T093000
DTEND;TZID=America/New_York:20250426T163000
DTSTAMP:20260419T080348
CREATED:20250317T203030Z
LAST-MODIFIED:20250317T203042Z
UID:2563-1745659800-1745685000@czairsoft.com
SUMMARY:Spring Sling
DESCRIPTION:
URL:https://czairsoft.com/event/spring-sling-2/
ATTACH;FMTTYPE=image/jpeg:https://czairsoft.com/wp-content/uploads/2025/03/SprongFling_25.jpg
END:VEVENT
BEGIN:VEVENT
DTSTART;TZID=America/New_York:20250420T040000
DTEND;TZID=America/New_York:20250420T230000
DTSTAMP:20260419T080348
CREATED:20250317T205056Z
LAST-MODIFIED:20250416T182821Z
UID:2570-1745121600-1745190000@czairsoft.com
SUMMARY:CZ Will Be Closed For Easter Observance
DESCRIPTION:CZ will be closed for the weekend of April 18 through the 20th for Easter Observance.  \n\n\n\nWe look forward to seeing you all next weekend.
URL:https://czairsoft.com/event/cz-is-closed-for-easter-observance/
ATTACH;FMTTYPE=image/jpeg:https://czairsoft.com/wp-content/uploads/2025/03/Easter.jpg
END:VEVENT
BEGIN:VEVENT
DTSTART;TZID=America/New_York:20250412T180000
DTEND;TZID=America/New_York:20250412T220000
DTSTAMP:20260419T080348
CREATED:20250317T202556Z
LAST-MODIFIED:20250317T203233Z
UID:2561-1744480800-1744495200@czairsoft.com
SUMMARY:Operation Cottontail - Night Op
DESCRIPTION:
URL:https://czairsoft.com/event/operation-cottontail-night-op/
ATTACH;FMTTYPE=image/jpeg:https://czairsoft.com/wp-content/uploads/2025/03/Cottontail_NightOP_25.jpg
END:VEVENT
BEGIN:VEVENT
DTSTART;TZID=America/New_York:20250412T093000
DTEND;TZID=America/New_York:20250412T163000
DTSTAMP:20260419T080348
CREATED:20250317T185051Z
LAST-MODIFIED:20250317T185101Z
UID:2559-1744450200-1744475400@czairsoft.com
SUMMARY:Operation Cottontail
DESCRIPTION:
URL:https://czairsoft.com/event/operation-cottontail-4/
ATTACH;FMTTYPE=image/gif:https://czairsoft.com/wp-content/uploads/2025/03/Cottontail_25.gif
END:VEVENT
BEGIN:VEVENT
DTSTART;TZID=America/New_York:20250330T120000
DTEND;TZID=America/New_York:20250330T163000
DTSTAMP:20260419T080348
CREATED:20250304T163533Z
LAST-MODIFIED:20250304T163547Z
UID:2558-1743336000-1743352200@czairsoft.com
SUMMARY:Task Force CZ   ...day2
DESCRIPTION:Final OP for March as we assault with tactical precision and overwhelming BB fire. Gear Up we deploy shortly!
URL:https://czairsoft.com/event/task-force-cz-day2/
ATTACH;FMTTYPE=image/jpeg:https://czairsoft.com/wp-content/uploads/2024/12/TaskForceCZ.jpg
END:VEVENT
BEGIN:VEVENT
DTSTART;TZID=America/New_York:20250329T090000
DTEND;TZID=America/New_York:20250329T163000
DTSTAMP:20260419T080348
CREATED:20250304T163116Z
LAST-MODIFIED:20250304T163118Z
UID:2557-1743238800-1743265800@czairsoft.com
SUMMARY:Task Force CZ
DESCRIPTION:Ending the month of March with a tactical mission of epic proportions. Gear Up and stand ready! We deploy at the mark!
URL:https://czairsoft.com/event/task-force-cz/
ATTACH;FMTTYPE=image/jpeg:https://czairsoft.com/wp-content/uploads/2024/12/TaskForceCZ.jpg
END:VEVENT
BEGIN:VEVENT
DTSTART;TZID=America/New_York:20250315T180000
DTEND;TZID=America/New_York:20250315T220000
DTSTAMP:20260419T080348
CREATED:20241211T205857Z
LAST-MODIFIED:20250118T011021Z
UID:2515-1742061600-1742076000@czairsoft.com
SUMMARY:Operation Crusader VIII - NIGHT OP
DESCRIPTION:Operation Crusader Night Op   1/18 – 2/28  $30     3/1-14  $35      3/15 $40
URL:https://czairsoft.com/event/operation-crusader-viii-night-op/
ATTACH;FMTTYPE=image/jpeg:https://czairsoft.com/wp-content/uploads/2024/12/Crusader8-NightOP.jpg
END:VEVENT
BEGIN:VEVENT
DTSTART;TZID=America/New_York:20250315T093000
DTEND;TZID=America/New_York:20250315T163000
DTSTAMP:20260419T080348
CREATED:20241211T205759Z
LAST-MODIFIED:20250225T184514Z
UID:2514-1742031000-1742056200@czairsoft.com
SUMMARY:Operation Crusader VIII
DESCRIPTION:This is CZ’s annual no holds barred battle of wills and perseverance featuring an older element we have not had for several years. The Night Operation. \n\n\n\n\n1030-1630 Day Op is the battle for total field supremacy and domination\n\n\n\n\n\n1800-2200 Night Op is a force on force battle for survival\n\n\n\n\n \n\n\n\nThere will be 5 teams each have a maximum of 10 players. The first 6 enlistments to a team will receive a color specific patch to their team. Others will receive the operations patch. \n\n\n\n· Blue · Green · Red · Purple · Yellow \n\n\n\nOnce all teams have been filled any entries will be randomly placed to a team as augmentations. \n\n\n\n\n0900 Check in begins at\n\n\n\n0930 – 1030 Chrono Opens will close at 1031 and reopen after the briefing.\n\n\n\n1030 – 1100 Safety /Game Brief Bear in mind this take a few minutes to get through. and we will get going as fast as we can.\n\n\n\n\n\n1330 – 1430 Chow and safety break\n\n\n\n1630 EnEx\n\n\n\n1700 Raffles and shenanigans will begin\n\n\n\n1715 Night Op Check In\n\n\n\n1800 Night Ops Begin\n\n\n\n\nWith your ticket purchase players will start to receive team specific emails and an overall operational infomation and intel packets leading up to the event. Most of this same information will be available on the CZ Airsoft Event and Facebook sites but ticket holders will get it first \n\n\n\nTickets prices are: 1/18 – 2/28 (Day) $40  3/1-14  (Day) $50   3/15  (Day) $60     \n\n\n\n*no refunds will be accepted after 10pm on March 14. All requests after 10pm 3/14 will be accepted as partial refunds.
URL:https://czairsoft.com/event/operation-crusader-viii-2/
ATTACH;FMTTYPE=image/jpeg:https://czairsoft.com/wp-content/uploads/2024/12/Crusader8-DayOp_2.jpg
END:VEVENT
BEGIN:VEVENT
DTSTART;TZID=America/New_York:20250302T100000
DTEND;TZID=America/New_York:20250302T170000
DTSTAMP:20260419T080348
CREATED:20241211T210136Z
LAST-MODIFIED:20241211T210155Z
UID:2518-1740909600-1740934800@czairsoft.com
SUMMARY:CZ Work/Build Day
DESCRIPTION:
URL:https://czairsoft.com/event/cz-work-build-day/
ATTACH;FMTTYPE=image/jpeg:https://czairsoft.com/wp-content/uploads/2024/08/Build-Day.jpg
END:VEVENT
BEGIN:VEVENT
DTSTART;TZID=America/New_York:20250301T093000
DTEND;TZID=America/New_York:20250301T163000
DTSTAMP:20260419T080348
CREATED:20250225T185033Z
LAST-MODIFIED:20250225T185745Z
UID:2554-1740821400-1740846600@czairsoft.com
SUMMARY:March of Madness
DESCRIPTION:Once more into the breach we go. Trampling through the woods and shooting our way to glory or defeat.
URL:https://czairsoft.com/event/marching-madness-2/
ATTACH;FMTTYPE=image/jpeg:https://czairsoft.com/wp-content/uploads/2024/12/Marching_25.jpg
END:VEVENT
BEGIN:VEVENT
DTSTART;TZID=America/New_York:20250223T170000
DTEND;TZID=America/New_York:20250223T200000
DTSTAMP:20260419T080348
CREATED:20241211T195630Z
LAST-MODIFIED:20241211T205105Z
UID:2506-1740330000-1740340800@czairsoft.com
SUMMARY:CZ's Family Reunion Dinner '25
DESCRIPTION:We’re hosting our annual family and friends dinner\, and we’d love to see you there. Join us for CZ’s Family Reunion Dinner ’25\, February 23\, 2025 at 5:00 PM at Park Lane Tavern at the Spotsylvania Towne Center. \n\n\n\nRegister soon because space is limited. \n\n\n\nWe hope you’re able to join us! \n\n\n\nTickets to attend are free
URL:https://czairsoft.com/event/czs-family-reunion-dinner-25/
LOCATION:Park Lane Tavern\, 1 Towne Centre Boulevard\, Fredericksburg\, Virginia\, 22407\, United States
ATTACH;FMTTYPE=image/jpeg:https://czairsoft.com/wp-content/uploads/2024/12/Dinner25.jpg
END:VEVENT
BEGIN:VEVENT
DTSTART;TZID=America/New_York:20250223T153000
DTEND;TZID=America/New_York:20250223T170000
DTSTAMP:20260419T080348
CREATED:20241231T182905Z
LAST-MODIFIED:20241231T211421Z
UID:2527-1740324600-1740330000@czairsoft.com
SUMMARY:Phoenix Annual Meeting
DESCRIPTION:All Patches\, Prospects and if you are curious about joining Team Phoenix you are asked to be here at Park Lane Tavern at 4pm for a quick meeting to discuss things and set a course for the next year.
URL:https://czairsoft.com/event/phoenix-annual-meeting/
LOCATION:Park Lane Tavern\, 1 Towne Centre Boulevard\, Fredericksburg\, Virginia\, 22407\, United States
ATTACH;FMTTYPE=image/jpeg:https://czairsoft.com/wp-content/uploads/2024/12/CZ_PhoenixCorps_patch.jpg
END:VEVENT
BEGIN:VEVENT
DTSTART;TZID=America/New_York:20250222T093000
DTEND;TZID=America/New_York:20250222T163000
DTSTAMP:20260419T080348
CREATED:20241211T205648Z
LAST-MODIFIED:20241213T211136Z
UID:2513-1740216600-1740241800@czairsoft.com
SUMMARY:Snow Blind
DESCRIPTION:Shout out to my Brothers in Arms in the photo. 2d Bn 6th Mar making the climb up Meadow Pass. The pain and glory is real. Semper Fi! \n\n\n\nOur last game of February and right before our annual family dinner we want to have a moment to give you one last test of your wills starting at 0930
URL:https://czairsoft.com/event/snow-blind/
ATTACH;FMTTYPE=image/jpeg:https://czairsoft.com/wp-content/uploads/2024/12/snowblind-25.jpg
END:VEVENT
BEGIN:VEVENT
DTSTART;TZID=America/New_York:20250216T120000
DTEND;TZID=America/New_York:20250216T170000
DTSTAMP:20260419T080348
CREATED:20241211T205531Z
LAST-MODIFIED:20241213T211901Z
UID:2512-1739707200-1739725200@czairsoft.com
SUMMARY:Viking Hammer   day2
DESCRIPTION:
URL:https://czairsoft.com/event/viking-hammer-day2/
ATTACH;FMTTYPE=image/gif:https://czairsoft.com/wp-content/uploads/2024/12/Viking-Hammer-25_clear.gif
END:VEVENT
BEGIN:VEVENT
DTSTART;TZID=America/New_York:20250215T093000
DTEND;TZID=America/New_York:20250215T170000
DTSTAMP:20260419T080348
CREATED:20241211T205444Z
LAST-MODIFIED:20241213T211817Z
UID:2510-1739611800-1739638800@czairsoft.com
SUMMARY:Viking Hammer
DESCRIPTION:
URL:https://czairsoft.com/event/viking-hammer-2/
ATTACH;FMTTYPE=image/gif:https://czairsoft.com/wp-content/uploads/2024/12/Viking-Hammer-25_clear.gif
END:VEVENT
BEGIN:VEVENT
DTSTART;TZID=America/New_York:20250202T120000
DTEND;TZID=America/New_York:20250202T170000
DTSTAMP:20260419T080348
CREATED:20241211T205355Z
LAST-MODIFIED:20250127T201020Z
UID:2509-1738497600-1738515600@czairsoft.com
SUMMARY:Cold Front    day2
DESCRIPTION:Here we are at day 2 and again as we get past the first we take the cold head on. See you this weekend here at CZ Airsoft
URL:https://czairsoft.com/event/cold-front-day2/
ATTACH;FMTTYPE=image/jpeg:https://czairsoft.com/wp-content/uploads/2024/12/coldfront-25.jpg
END:VEVENT
BEGIN:VEVENT
DTSTART;TZID=America/New_York:20250201T093000
DTEND;TZID=America/New_York:20250201T163000
DTSTAMP:20260419T080348
CREATED:20241211T205311Z
LAST-MODIFIED:20250127T201040Z
UID:2508-1738402200-1738427400@czairsoft.com
SUMMARY:Cold Front
DESCRIPTION:We got through the first of the snow and now it’s time to face the cold head on. See you this weekend here at CZ Airsoft
URL:https://czairsoft.com/event/cold-front-2/
ATTACH;FMTTYPE=image/jpeg:https://czairsoft.com/wp-content/uploads/2024/12/coldfront-25.jpg
END:VEVENT
BEGIN:VEVENT
DTSTART;TZID=America/New_York:20250119T120000
DTEND;TZID=America/New_York:20250119T163000
DTSTAMP:20260419T080348
CREATED:20250101T195045Z
LAST-MODIFIED:20250101T195056Z
UID:2539-1737288000-1737304200@czairsoft.com
SUMMARY:Operation Iceman   day2
DESCRIPTION:
URL:https://czairsoft.com/event/operation-iceman-day2/
ATTACH;FMTTYPE=image/jpeg:https://czairsoft.com/wp-content/uploads/2025/01/Iceman-25.jpg
END:VEVENT
BEGIN:VEVENT
DTSTART;TZID=America/New_York:20250118T093000
DTEND;TZID=America/New_York:20250118T170000
DTSTAMP:20260419T080348
CREATED:20250101T194916Z
LAST-MODIFIED:20250107T212805Z
UID:2537-1737192600-1737219600@czairsoft.com
SUMMARY:Operation Iceman
DESCRIPTION:This is a hunt or be hunted game. Today we will pit you against snipers\, trackers and anyone else brave enough to step onto the battlefield and charge into the face of battle.  \n\n\n\nCome ready and prep your gear.  \n\n\n\nFor you Snipers that want to take part\, come early and get your orders.  \n\n\n\nCan you take it?
URL:https://czairsoft.com/event/operation-iceman/
ATTACH;FMTTYPE=image/jpeg:https://czairsoft.com/wp-content/uploads/2025/01/Iceman-25.jpg
END:VEVENT
BEGIN:VEVENT
DTSTART;TZID=America/New_York:20250105T120000
DTEND;TZID=America/New_York:20250105T163000
DTSTAMP:20260419T080348
CREATED:20241210T163242Z
LAST-MODIFIED:20241210T164500Z
UID:2504-1736078400-1736094600@czairsoft.com
SUMMARY:Winter Wonderland '25   day2
DESCRIPTION:CZ’s first weekend of airsoft kicks off to set the pace for a most exciting year
URL:https://czairsoft.com/event/winter-wonderland-25-day2/
ATTACH;FMTTYPE=image/jpeg:https://czairsoft.com/wp-content/uploads/2024/12/Winter-Wonderland-25.jpg
END:VEVENT
BEGIN:VEVENT
DTSTART;TZID=America/New_York:20250104T093000
DTEND;TZID=America/New_York:20250104T163000
DTSTAMP:20260419T080348
CREATED:20241210T163033Z
LAST-MODIFIED:20241210T163034Z
UID:2502-1735983000-1736008200@czairsoft.com
SUMMARY:Winter Wonderland '25
DESCRIPTION:CZ’s first game of the new year and it’s going to be cold and exciting as we set the pace for the next 12 months
URL:https://czairsoft.com/event/winter-wonderland-25/
ATTACH;FMTTYPE=image/jpeg:https://czairsoft.com/wp-content/uploads/2024/12/Winter-Wonderland-25.jpg
END:VEVENT
BEGIN:VEVENT
DTSTART;TZID=America/New_York:20241222T120000
DTEND;TZID=America/New_York:20241222T160000
DTSTAMP:20260419T080348
CREATED:20240813T191401Z
LAST-MODIFIED:20241001T221005Z
UID:2405-1734868800-1734883200@czairsoft.com
SUMMARY:Sleigh Down!
DESCRIPTION:
URL:https://czairsoft.com/event/sleigh-down/
ATTACH;FMTTYPE=image/jpeg:https://czairsoft.com/wp-content/uploads/2024/08/Sleigh-Down.jpg
END:VEVENT
BEGIN:VEVENT
DTSTART;TZID=America/New_York:20241221T093000
DTEND;TZID=America/New_York:20241221T163000
DTSTAMP:20260419T080348
CREATED:20240813T191304Z
LAST-MODIFIED:20240925T005741Z
UID:2404-1734773400-1734798600@czairsoft.com
SUMMARY:Reindeer Games
DESCRIPTION:
URL:https://czairsoft.com/event/reindeer-games-3/
ATTACH;FMTTYPE=image/gif:https://czairsoft.com/wp-content/uploads/2023/11/ReindeerGames.gif
END:VEVENT
END:VCALENDAR