BEGIN:VCALENDAR
VERSION:2.0
PRODID:-//CZ Airsoft - ECPv6.15.20//NONSGML v1.0//EN
CALSCALE:GREGORIAN
METHOD:PUBLISH
X-WR-CALNAME:CZ Airsoft
X-ORIGINAL-URL:https://czairsoft.com
X-WR-CALDESC:Events for CZ Airsoft
REFRESH-INTERVAL;VALUE=DURATION:PT1H
X-Robots-Tag:noindex
X-PUBLISHED-TTL:PT1H
BEGIN:VTIMEZONE
TZID:America/New_York
BEGIN:DAYLIGHT
TZOFFSETFROM:-0500
TZOFFSETTO:-0400
TZNAME:EDT
DTSTART:20240310T070000
END:DAYLIGHT
BEGIN:STANDARD
TZOFFSETFROM:-0400
TZOFFSETTO:-0500
TZNAME:EST
DTSTART:20241103T060000
END:STANDARD
BEGIN:DAYLIGHT
TZOFFSETFROM:-0500
TZOFFSETTO:-0400
TZNAME:EDT
DTSTART:20250309T070000
END:DAYLIGHT
BEGIN:STANDARD
TZOFFSETFROM:-0400
TZOFFSETTO:-0500
TZNAME:EST
DTSTART:20251102T060000
END:STANDARD
BEGIN:DAYLIGHT
TZOFFSETFROM:-0500
TZOFFSETTO:-0400
TZNAME:EDT
DTSTART:20260308T070000
END:DAYLIGHT
BEGIN:STANDARD
TZOFFSETFROM:-0400
TZOFFSETTO:-0500
TZNAME:EST
DTSTART:20261101T060000
END:STANDARD
END:VTIMEZONE
BEGIN:VEVENT
DTSTART;TZID=America/New_York:20251004T080000
DTEND;TZID=America/New_York:20251004T220000
DTSTAMP:20260421T062343
CREATED:20250902T182832Z
LAST-MODIFIED:20250902T182834Z
UID:2792-1759564800-1759615200@czairsoft.com
SUMMARY:URA's Division 4 -The New Strain
DESCRIPTION:The plague that destroyed humanity has mutated. This is no longer about supplies; it is about a cure. \n\n\n\nThis is a multi-team open-world survival event. each team is comprised of 6 players and you are in heavy competition to earn the most points (supplies) and find the cure to the plague. Your main goal will be to acquire loot by scavenging it\, earning it from missions or stealing it and then extract it off the field. The more you extract the more points you earn. \n\n\n\nOct 4th – Walk-on Tickets – $70Earn 1x Raffle Tickets\, The event patch* and dog tag*\, and your team is selected by staff. \n\n\n\n*NOTE = The first 50 players will receive the event dog tag and patch.
URL:https://czairsoft.com/event/uras-division-4-the-new-strain/
ATTACH;FMTTYPE=image/avif:https://czairsoft.com/wp-content/uploads/2025/09/URADIV4.avif
END:VEVENT
BEGIN:VEVENT
DTSTART;TZID=America/New_York:20251011T093000
DTEND;TZID=America/New_York:20251011T163000
DTSTAMP:20260421T062343
CREATED:20250902T183015Z
LAST-MODIFIED:20250923T204920Z
UID:2794-1760175000-1760200200@czairsoft.com
SUMMARY:Haunted and Hunted
DESCRIPTION:In space nobody can hear you scream but\, in the forest it echos. Will you survive?
URL:https://czairsoft.com/event/haunted-and-hunted-3/
ATTACH;FMTTYPE=image/jpeg:https://czairsoft.com/wp-content/uploads/2025/09/haunted.jpg
END:VEVENT
BEGIN:VEVENT
DTSTART;TZID=America/New_York:20251012T120000
DTEND;TZID=America/New_York:20251012T163000
DTSTAMP:20260421T062344
CREATED:20250902T183646Z
LAST-MODIFIED:20250923T205004Z
UID:2795-1760270400-1760286600@czairsoft.com
SUMMARY:Haunted and Hunted  ..day2
DESCRIPTION:Welcome to day 2. In space nobody can hear you scream but\, in the forest it echos. Will you survive?
URL:https://czairsoft.com/event/haunted-and-hunted-day2-2/
ATTACH;FMTTYPE=image/jpeg:https://czairsoft.com/wp-content/uploads/2025/09/haunted.jpg
END:VEVENT
BEGIN:VEVENT
DTSTART;TZID=America/New_York:20251019T120000
DTEND;TZID=America/New_York:20251019T163000
DTSTAMP:20260421T062344
CREATED:20250902T184006Z
LAST-MODIFIED:20251017T183244Z
UID:2796-1760875200-1760891400@czairsoft.com
SUMMARY:POPUP Game Day
DESCRIPTION:Come one\, come all We are going to sling it out all afternoon
URL:https://czairsoft.com/event/cz-work-build-day-3/
ATTACH;FMTTYPE=image/jpeg:https://czairsoft.com/wp-content/uploads/2025/09/CZ-POPUP.jpg
END:VEVENT
BEGIN:VEVENT
DTSTART;TZID=America/New_York:20251025T090000
DTEND;TZID=America/New_York:20251025T163000
DTSTAMP:20260421T062344
CREATED:20251001T135946Z
LAST-MODIFIED:20251022T142327Z
UID:2827-1761382800-1761409800@czairsoft.com
SUMMARY:Open Play: Ghosts of Hill Top
DESCRIPTION:Welcome to CZ’s Open to everyone game day for Ghosts of Hilltop. It’s the spooky season here at CZ and also the last weekend of the month. Join us for a great time of BB slinging and some hard fighting scenarios.As an added bonus if you come in costume get a discount on your admission. (don’t cheat by being a random military member or paramilitary whatever.) Come dressed up and let’s have a great time
URL:https://czairsoft.com/event/open-play-ghosts-of-hill-top/
ATTACH;FMTTYPE=image/jpeg:https://czairsoft.com/wp-content/uploads/2025/10/imageedit_7_8210092970.jpg
END:VEVENT
BEGIN:VEVENT
DTSTART;TZID=America/New_York:20251026T120000
DTEND;TZID=America/New_York:20251026T163000
DTSTAMP:20260421T062344
CREATED:20251001T140103Z
LAST-MODIFIED:20251022T142403Z
UID:2828-1761480000-1761496200@czairsoft.com
SUMMARY:Open Play: Ghosts of Hilltop   ..day2
DESCRIPTION:Open to one and all for day 2 of our Ghosts of Hilltop days  It’s the spooky season here at CZ and also the last weekend of the month. Join us for a great time of BB slinging and some hard fighting scenarios.As an added bonus if you come in costume get a discount on your admission. (don’t cheat by being a random military member or paramilitary whatever.) Come dressed up and let’s have a great time
URL:https://czairsoft.com/event/open-play-ghosts-of-hilltop-day2/
ATTACH;FMTTYPE=image/jpeg:https://czairsoft.com/wp-content/uploads/2025/10/imageedit_7_8210092970.jpg
END:VEVENT
END:VCALENDAR